BEGIN:VCALENDAR
VERSION:2.0
PRODID:-//eventon.com NONSGML v1.0//EN
CALSCALE:GREGORIAN
METHOD:PUBLISH
BEGIN:VEVENT
UID:69ecd0bc9d8d0
DTSTAMP:20260425T143332Z
DTSTART:20260615T100000Z
DTEND:20260616T170000Z
LOCATION:VOSS+PARTNER Willhoop 5\,  22453 HAMBURG
SUMMARY:Führen mit DiSG®
DESCRIPTION:DiSG® ist nicht nur ein Persönlichkeitsmodell\,  sondern auch
  ein gutes Hilfsmittel in der Führungsarbeit. Führen mit DiSG® eignet si
 ch hervorragend für die Weiterentwicklung von Führungskräften. Das Präs
 enz-Training umfasst zwei Seminartage\,  die Uhrzeit entnehmen Sie bitte de
 r Direktanmeldung. 1.295\, 00 € zzgl. gesetzlicher MwSt.\nhttps://voss-tr
 aining.de/events/fuehren-mit-disg/var/ri-1.l-L1
URL:https://voss-training.de/events/fuehren-mit-disg/var/ri-1.l-L1
END:VEVENT
END:VCALENDAR