BEGIN:VCALENDAR
VERSION:2.0
PRODID:-//eventon.com NONSGML v1.0//EN
CALSCALE:GREGORIAN
METHOD:PUBLISH
BEGIN:VEVENT
UID:69ecd0341e819
DTSTAMP:20260425T143116Z
DTSTART:20260828T070000Z
DTEND:20260828T110000Z
LOCATION:online
SUMMARY:Sales powered by DiSG Trainer-Aufbauzertifizierung (Live-online-Training)
DESCRIPTION:Insbesondere im Vertrieb sind diese Kenntnisse von wertvollem N
 utzen\,  denn\,  wenn ich meine persönliche Typologie (Verhaltensweise) gu
 t kenne und zugleich die meiner Kunden erkennen kann\,  wird es mir stets l
 eichter fallen\,  gut zu kommunizieren und ein gutes Win-win-Verkaufsergebn
 is zu erzielen. Das Training umfasst 4 Stunden. Voraussetzung für die Teil
 nahme an[..]\nhttps://voss-training.de/events/sales-powered-by-disg-trainer
 -aufbauzertifizierung/var/ri-3.l-L1
URL:https://voss-training.de/events/sales-powered-by-disg-trainer-aufbauzertifizierung/var/ri-3.l-L1
END:VEVENT
END:VCALENDAR