BEGIN:VCALENDAR
VERSION:2.0
PRODID:-//eventon.com NONSGML v1.0//EN
CALSCALE:GREGORIAN
METHOD:PUBLISH
BEGIN:VEVENT
UID:69ecd033eaf2f
DTSTAMP:20260425T143115Z
DTSTART:20261005T080000Z
DTEND:20261005T160000Z
LOCATION:Hamburg
SUMMARY:DiSG® Workplace (Präsenz-Seminar)
DESCRIPTION:Lernen Sie\,  sich selbst und andere besser zu verstehen. Erfah
 ren Sie mehr über die verschiedenen Prioritäten\,  Vorlieben und Werte\, 
  die jeder Einzelne bei der Arbeit an den Tag legt. Durch Ihr persönliches
  Profil mit umsetzbaren Strategien erfahren Sie\,  wie Sie sich an den Stil
  von anderen anpassen. Damit können Sie[..]\nhttps://voss-training.de/even
 ts/disg-sich-selbst-kunden-und-mitarbeiter-besser-verstehen/var/ri-3.l-L1
URL:https://voss-training.de/events/disg-sich-selbst-kunden-und-mitarbeiter-besser-verstehen/var/ri-3.l-L1
END:VEVENT
END:VCALENDAR