BEGIN:VCALENDAR
VERSION:2.0
PRODID:-//eventon.com NONSGML v1.0//EN
CALSCALE:GREGORIAN
METHOD:PUBLISH
BEGIN:VEVENT
UID:69ed65504dfe2
DTSTAMP:20260426T010728Z
DTSTART:20261116T090000Z
DTEND:20261117T160000Z
LOCATION:VOSS+PARTNER Willhoop 5\,  22453 HAMBURG
SUMMARY:Trainingskonzepte erstellen
DESCRIPTION:Schulungsbedarf ermitteln\,  Lernziele bestimmen und Inhalte me
 thodisch-didaktisch aufbereiten. Sie entwickeln Ihre Traineranleitung für 
 nachschulbare Trainings. Preis: 1.295€ zzgl. gesetzlicher MwSt. Dauer des
  Seminars: 2 Tage\nhttps://voss-training.de/events/trainingskonzepte-passge
 nau-entwickeln/var/ri-2.l-L1
URL:https://voss-training.de/events/trainingskonzepte-passgenau-entwickeln/var/ri-2.l-L1
END:VEVENT
END:VCALENDAR