BEGIN:VCALENDAR
VERSION:2.0
PRODID:-//eventon.com NONSGML v1.0//EN
CALSCALE:GREGORIAN
METHOD:PUBLISH
BEGIN:VEVENT
UID:69ecd0bc9c3fa
DTSTAMP:20260425T143332Z
DTSTART:20260820T070000Z
DTEND:20260820T110000Z
LOCATION:online
SUMMARY:Führen mit DiSG Trainer-Aufbauzertifizierung (Live-online-Training )
DESCRIPTION:Unsere Aufbau-Zertifizierung für den erfolgreichen Einsatz von
  DiSG im Rahmen von Führungs- und Führungsnachwuchstrainings. Der Schlüs
 sel für eine erfolgreiche Kommunikation von Führungskräften mit ihren MI
 tarbeitern und Vorgesetzten. Das Training umfasst 4 Stunden. Voraussetzung 
 für die Teilnahme an diesem Training ist die Zertifizierung zum DiSG-Train
 er. 1.195 Euro zzgl. gesetzlicher MwSt. je[..]\nhttps://voss-training.de/ev
 ents/fuehren-mit-disg-trainer-aufbauzertifizierung/var/ri-4.l-L1
URL:https://voss-training.de/events/fuehren-mit-disg-trainer-aufbauzertifizierung/var/ri-4.l-L1
END:VEVENT
END:VCALENDAR