BEGIN:VCALENDAR
VERSION:2.0
PRODID:-//eventon.com NONSGML v1.0//EN
CALSCALE:GREGORIAN
METHOD:PUBLISH
BEGIN:VEVENT
UID:69ecd0191bfc0
DTSTAMP:20260425T143049Z
DTSTART:20260709T080000Z
DTEND:20260710T150000Z
LOCATION:Live-online-Training
SUMMARY:Everything DiSG® Online Trainer-Zertifizierung
DESCRIPTION:Mit der Teilnahme am der DiSG® Trainer-Zertifizierung erlangen
  Sie die Kompetenz\,  das DiSG-Profil in Ihren Trainings\,  Coachings und i
 n der Personalauswahl zielgerichtet einzusetzen. Die Live-Online-Zertfizier
 ung startet an Tag 1 mit dem Everything DiSG® Workplace Training. An Tag 2
  erhalten Sie alle relevanten Informationen und ihr persönliches Everythin
 g DiSG® Workplace Trainer-Kit\, [..]\nhttps://voss-training.de/events/ever
 ything-disg-online-trainer-zertifizierung/var/ri-2.l-L1
URL:https://voss-training.de/events/everything-disg-online-trainer-zertifizierung/var/ri-2.l-L1
END:VEVENT
END:VCALENDAR